BEGIN:VCALENDAR
VERSION:2.0
PRODID:-//Metodgruppen - ECPv6.15.20//NONSGML v1.0//EN
CALSCALE:GREGORIAN
METHOD:PUBLISH
X-WR-CALNAME:Metodgruppen
X-ORIGINAL-URL:https://www.metodgruppen.se
X-WR-CALDESC:Händelser för Metodgruppen
REFRESH-INTERVAL;VALUE=DURATION:PT1H
X-Robots-Tag:noindex
X-PUBLISHED-TTL:PT1H
BEGIN:VTIMEZONE
TZID:Europe/Paris
BEGIN:DAYLIGHT
TZOFFSETFROM:+0100
TZOFFSETTO:+0200
TZNAME:CEST
DTSTART:20230326T010000
END:DAYLIGHT
BEGIN:STANDARD
TZOFFSETFROM:+0200
TZOFFSETTO:+0100
TZNAME:CET
DTSTART:20231029T010000
END:STANDARD
BEGIN:DAYLIGHT
TZOFFSETFROM:+0100
TZOFFSETTO:+0200
TZNAME:CEST
DTSTART:20240331T010000
END:DAYLIGHT
BEGIN:STANDARD
TZOFFSETFROM:+0200
TZOFFSETTO:+0100
TZNAME:CET
DTSTART:20241027T010000
END:STANDARD
BEGIN:DAYLIGHT
TZOFFSETFROM:+0100
TZOFFSETTO:+0200
TZNAME:CEST
DTSTART:20250330T010000
END:DAYLIGHT
BEGIN:STANDARD
TZOFFSETFROM:+0200
TZOFFSETTO:+0100
TZNAME:CET
DTSTART:20251026T010000
END:STANDARD
END:VTIMEZONE
BEGIN:VEVENT
DTSTART;TZID=Europe/Paris:20241014T093000
DTEND;TZID=Europe/Paris:20241014T153000
DTSTAMP:20260424T224248
CREATED:20240423T115705Z
LAST-MODIFIED:20241003T145201Z
UID:1123-1728898200-1728919800@www.metodgruppen.se
SUMMARY:Styrgruppen
DESCRIPTION:Hej\, \nKallelse till höstens möte i styrgruppen. \nLokal Teams
URL:https://www.metodgruppen.se/event/styrgruppen/
LOCATION:Trafikverket\, Solna
END:VEVENT
END:VCALENDAR